BEGIN:VCALENDAR
VERSION:2.0
PRODID:-//pretix//pretix.eu//
BEGIN:VTIMEZONE
TZID:Europe/Berlin
BEGIN:STANDARD
DTSTART:20001029T040000
RRULE:FREQ=YEARLY;BYDAY=-1SU;BYMONTH=10
TZNAME:CET
TZOFFSETFROM:+0200
TZOFFSETTO:+0100
END:STANDARD
BEGIN:DAYLIGHT
DTSTART:20000326T030000
RRULE:FREQ=YEARLY;BYDAY=-1SU;BYMONTH=3
TZNAME:CEST
TZOFFSETFROM:+0100
TZOFFSETTO:+0200
END:DAYLIGHT
END:VTIMEZONE
BEGIN:VEVENT
UID:pretix-intouchsound-founders-fest-2025-0@tickets.foundersfest.eu
DTSTART;TZID=Europe/Berlin:20250914T130000
DTEND;TZID=Europe/Berlin:20250914T140000
DESCRIPTION:Tickets: https://tickets.foundersfest.eu/founders-fest-2025/\nO
 rganizer: INTOUCH SOUND
DTSTAMP:20260419T145928Z
LOCATION:Villa Mautner-Jäger\, 1030 Vienna
SUMMARY:Founders Fest Vienna
END:VEVENT
END:VCALENDAR
